BEGIN:VCALENDAR
VERSION:2.0
PRODID:-//Eversource Energy Center - ECPv6.15.20//NONSGML v1.0//EN
CALSCALE:GREGORIAN
METHOD:PUBLISH
X-WR-CALNAME:Eversource Energy Center
X-ORIGINAL-URL:https://www.eversource.uconn.edu
X-WR-CALDESC:Events for Eversource Energy Center
REFRESH-INTERVAL;VALUE=DURATION:PT1H
X-Robots-Tag:noindex
X-PUBLISHED-TTL:PT1H
BEGIN:VTIMEZONE
TZID:UTC
BEGIN:STANDARD
TZOFFSETFROM:+0000
TZOFFSETTO:+0000
TZNAME:UTC
DTSTART:20200101T000000
END:STANDARD
END:VTIMEZONE
BEGIN:VEVENT
DTSTART;TZID=UTC:20211119T110000
DTEND;TZID=UTC:20211119T153000
DTSTAMP:20260424T023538
CREATED:20211102T030312Z
LAST-MODIFIED:20211102T030443Z
UID:7777-1637319600-1637335800@www.eversource.uconn.edu
SUMMARY:2021 Annual Meeting
DESCRIPTION:We cordially invite you to attend the Eversource Energy Center Annual Workshop taking place on November 19th from 11:00 AM – 3:30 PM . In-person and remote access will be available. You can view the workshop agenda by clicking the date. \nWe will begin with welcome remarks from UConn and Eversource leadership\, Center updates\, and presentations by UConn faculty of the new projects initiated this year. The first part of the Workshop will include a keynote presentation by Ali Ghassemian\, a program manager for the Division of Advanced Grid Research & Development\, Office of Electricity (DOE). This will then be followed by two breakout sessions: Resilience and Reliability\, which will be coordinated by Diego Cerrai and Robert Fahey\, as well as Renewables Integration and Cyber/Physical Security\, coordinated by Junbo Zhao and Mal Pena.
URL:https://www.eversource.uconn.edu/event/7777/
LOCATION:IPB\, 159 Discovery Dr.\, Storrs\, CT\, 06269\, United States
CATEGORIES:Annual Meeting
ATTACH;FMTTYPE=image/jpeg:https://www.eversource.uconn.edu/wp-content/uploads/2021/11/EEC-2021-Annual-Workshop-Flyer.jpg
END:VEVENT
END:VCALENDAR